BEGIN:VCALENDAR
PRODID:-//eluceo/ical//2.0/EN
VERSION:2.0
CALSCALE:GREGORIAN
BEGIN:VEVENT
UID:d5e1be5fc6ddfc011cf6d56af52f30de
DTSTAMP:20260420T012823Z
SUMMARY:Conspire2Inspire - Young Professionals in support of Chai Lifeline 
 Canada
DESCRIPTION:UJA Federation of Greater Toronto\nJewish Toronto Calendar\nhtt
 ps://jewishtoronto.com/calendar/conspire2inspire\n\nFor more information: 
 www.chailifelinecanada.org\n\n 
DTSTART;TZID=America/Toronto:20150630T200000
DTEND;TZID=America/Toronto:20150701T010000
END:VEVENT
END:VCALENDAR
