BEGIN:VCALENDAR
PRODID:-//eluceo/ical//2.0/EN
VERSION:2.0
CALSCALE:GREGORIAN
BEGIN:VEVENT
UID:76bc4ea337a1379d6fc36979f7917e14
DTSTAMP:20260424T082655Z
SUMMARY:Concert: "Hebrew Melodies"
DESCRIPTION:UJA Federation of Greater Toronto\nJewish Toronto Calendar\nhtt
 ps://jewishtoronto.com/calendar/concert-hebrew-melodies-1491095581\n\nConc
 ert of vocal and chamber music based on Jewish Liturgical music featuring 
 settings of Byron's celebrated "Hebrew Melodies"
DTSTART;TZID=America/Toronto:20171029T140000
DTEND;TZID=America/Toronto:20171029T150000
END:VEVENT
END:VCALENDAR
