BEGIN:VCALENDAR
PRODID:-//eluceo/ical//2.0/EN
VERSION:2.0
CALSCALE:GREGORIAN
BEGIN:VEVENT
UID:6d0724b8c51ec782053ffd7360087201
DTSTAMP:20260421T104834Z
SUMMARY:Community Passover Seder
DESCRIPTION:UJA Federation of Greater Toronto\nJewish Toronto Calendar\nhtt
 ps://jewishtoronto.com/calendar/community-passover-seder-1489806275\n\nEnj
 oy the holiday of freedom with family and friends\, featuring a traditiona
 l seder and a gourmet Passover dinner.\nInfo and tickets: Chabad of Midtow
 n at (416) 516-2005
DTSTART;TZID=America/Toronto:20170410T193000
DTEND;TZID=America/Toronto:20170410T213000
END:VEVENT
END:VCALENDAR
