BEGIN:VCALENDAR
PRODID:-//eluceo/ical//2.0/EN
VERSION:2.0
CALSCALE:GREGORIAN
BEGIN:VEVENT
UID:5017cc1a763514ac32e5da5d57fcce69
DTSTAMP:20260423T161304Z
SUMMARY:Community Passover Program
DESCRIPTION:UJA Federation of Greater Toronto\nJewish Toronto Calendar\nhtt
 ps://jewishtoronto.com/calendar/community-passover-program-1710869608\n\nT
 he ID for this program is: 989 3806 6202\nThe Passcode is: 367127
DTSTART;TZID=America/Toronto:20240410T130000
DTEND;TZID=America/Toronto:20240410T140000
END:VEVENT
END:VCALENDAR
