BEGIN:VCALENDAR
PRODID:-//eluceo/ical//2.0/EN
VERSION:2.0
CALSCALE:GREGORIAN
BEGIN:VEVENT
UID:2f83f771925928829dd2fb7d42f3f37c
DTSTAMP:20260419T222327Z
SUMMARY:Community Melaveh Malka - Jewish Music Week Celebrating Israel at 7
 0!
DESCRIPTION:UJA Federation of Greater Toronto\nJewish Toronto Calendar\nhtt
 ps://jewishtoronto.com/calendar/community-melaveh-malka---jewish-music-wee
 k-celebrating-israel-at-70-1526390264\n\nThis year\, in honour of Israel
 ’s 70th birthday\, we welcome some of Toronto’s favourite community ch
 oirs to perform songs of Israel. We live in such a special city\, and thes
 e choirs will make you proud to be part of it! Featuring: Temple Sinai Ens
 emble Choir\, Cantor Charles Osborne\, director\; Holy Blossom Trio\, Temp
 le Choir\, Temple Singers and Lachan Jewish Chamber Choir Cantor Beny Mais
 sner\, director\; Octava+\, Margarita Romko\, director\; Temple Kol Ami Ch
 oir\, Mathias Memmel\, director\; Toro...
DTSTART;TZID=America/Toronto:20180602T221500
DTEND;TZID=America/Toronto:20180602T233000
END:VEVENT
END:VCALENDAR
