BEGIN:VCALENDAR
PRODID:-//eluceo/ical//2.0/EN
VERSION:2.0
CALSCALE:GREGORIAN
BEGIN:VEVENT
UID:efeb8672b1bc4426fc3b10de295154aa
DTSTAMP:20260419T134839Z
SUMMARY:Community Challah Bake
DESCRIPTION:UJA Federation of Greater Toronto\nJewish Toronto Calendar\nhtt
 ps://jewishtoronto.com/calendar/community-challah-bake-1699983753\n\nPleas
 e join Beth Sholom and Beth Tikvah Synagogues as we come together in solid
 arity for Jews in Israel and around the world. This massive gathering will
  incorporate the meaning of baking challah\, the spirit of Shabbat\, and t
 he power of voices sung in unison. Together\, we can effect change.
DTSTART;TZID=America/Toronto:20231122T190000
DTEND;TZID=America/Toronto:20231122T210000
END:VEVENT
END:VCALENDAR
