BEGIN:VCALENDAR
PRODID:-//eluceo/ical//2.0/EN
VERSION:2.0
CALSCALE:GREGORIAN
BEGIN:VEVENT
UID:80aa502b8b1aae9477363d09e01df233
DTSTAMP:20260422T231756Z
SUMMARY:Communicating for Israel: A Collaboration with Hasbara Fellowships
DESCRIPTION:UJA Federation of Greater Toronto\nJewish Toronto Calendar\nhtt
 ps://jewishtoronto.com/calendar/communicating-for-israel-a-collaboration-w
 ith-hasbara-fellowships-1606873491\n\nLearn important tools and strategies
  for communicating about Israel outside of the &quot\;Jewish bubble&quot\;
  and responding to anti-Israel claims. Teens will then get the chance to w
 orkshop these skills with our High School Advisor\, while parents will hea
 r from our Executive Director about what&#039\;s currently happening on Ca
 nadian campuses regarding pro- and anti-Israel activity.\n\nPre-registrati
 on required to receive the Zoom link.
DTSTART;TZID=America/Toronto:20201206T170000
DTEND;TZID=America/Toronto:20201206T180000
END:VEVENT
END:VCALENDAR
