BEGIN:VCALENDAR
PRODID:-//eluceo/ical//2.0/EN
VERSION:2.0
CALSCALE:GREGORIAN
BEGIN:VEVENT
UID:19dae7fd75fbb7ac59b63cfdabc1d906
DTSTAMP:20260423T131733Z
SUMMARY:Communal Reading of Megillat Hashoah at Beth David Synagogue
DESCRIPTION:UJA Federation of Greater Toronto\nJewish Toronto Calendar\nhtt
 ps://jewishtoronto.com/calendar/communal-reading-of-megillat-hashoah-at-be
 th-david-synagogue-1462204278\n\nThis Holocaust Remembrance Day\, hear the
  moving and inspiring words of the Megillat Hashoah.\nA meaningful ritual 
 to remember and honour the Six Million.\n\nLed by Rabbi Philip Scheim\, Ra
 bbi Howard Morrison and Rabbi Jarrod Grover\nWith an inspiring musical pro
 gramme featuring Cantors:\nMarshall Loomer (Beth David)\nAlex Stein (Adath
  Israel)\nTibor Kovari (Beth Tikvah)\nDavid Edwards (Beth Emeth)\nPianist 
 David Warrack with string quartet.
DTSTART;TZID=America/Toronto:20160505T193000
DTEND;TZID=America/Toronto:20160505T213000
END:VEVENT
END:VCALENDAR
