BEGIN:VCALENDAR
PRODID:-//eluceo/ical//2.0/EN
VERSION:2.0
CALSCALE:GREGORIAN
BEGIN:VEVENT
UID:d6009f1e03ed145c7dca5fb86838e0a1
DTSTAMP:20260424T152108Z
SUMMARY:Comedy night with Yohay Sponder
DESCRIPTION:UJA Federation of Greater Toronto\nJewish Toronto Calendar\nhtt
 ps://jewishtoronto.com/calendar/comedy-night-with-yohay-sponder-1762105947
 \n\nComedy night with Israel sensation Yohay Sponder.
DTSTART;TZID=America/Toronto:20260507T190000
DTEND;TZID=America/Toronto:20260507T210000
END:VEVENT
END:VCALENDAR
