BEGIN:VCALENDAR
PRODID:-//eluceo/ical//2.0/EN
VERSION:2.0
CALSCALE:GREGORIAN
BEGIN:VEVENT
UID:5db9954bb7e09f9b718ccf1e35bdecd9
DTSTAMP:20260423T042950Z
SUMMARY:Postponed - Comedy Night with MODI
DESCRIPTION:UJA Federation of Greater Toronto\nJewish Toronto Calendar\nhtt
 ps://jewishtoronto.com/calendar/comedy-night-with-modi-1579188990\n\nFor m
 ore information or to purchase tickets\, please contact Sharon Anisman at 
 416-789-7241 or sharon@btjcanada.com
DTSTART;TZID=America/Toronto:20200524T200000
DTEND;TZID=America/Toronto:20200524T220000
END:VEVENT
END:VCALENDAR
