BEGIN:VCALENDAR
PRODID:-//eluceo/ical//2.0/EN
VERSION:2.0
CALSCALE:GREGORIAN
BEGIN:VEVENT
UID:06bcdcc24c96ececa0a814eecf0db7f0
DTSTAMP:20260426T001509Z
SUMMARY:Come Say Chai
DESCRIPTION:UJA Federation of Greater Toronto\nJewish Toronto Calendar\nhtt
 ps://jewishtoronto.com/calendar/come-say-chai-1768940747\n\nCome Say Chai 
 is an evening of food\, drinks\, and music\, bringing people together to c
 onnect\, give back\, and make a meaningful difference in the lives of chil
 dren and families facing serious illness. This event is designed for matur
 e university students and young professionals.
DTSTART;TZID=America/Toronto:20260602T193000
DTEND;TZID=America/Toronto:20260602T223000
END:VEVENT
END:VCALENDAR
