BEGIN:VCALENDAR
PRODID:-//eluceo/ical//2.0/EN
VERSION:2.0
CALSCALE:GREGORIAN
BEGIN:VEVENT
UID:808999f87dab2c39ea424612d315bb77
DTSTAMP:20260420T131908Z
SUMMARY:Combatting the Resurgence of Global Antisemitism: Strategic Priorit
 ies
DESCRIPTION:UJA Federation of Greater Toronto\nJewish Toronto Calendar\nhtt
 ps://jewishtoronto.com/calendar/combatting-the-resurgence-of-global-antise
 mitism-strategic-priorities-1573763305\n\nSeventy-five years after the Hol
 ocaust\, Antisemitism is again on the rise\, not only in Europe but throug
 hout the Globe\, emanating not only from the far-Right but also the far-Le
 ft. It is a situation widely thought unimaginable only years ago. Now\, th
 is taboo is being smashed\, with Jew-hatred increasingly rampant\, promote
 d and publicly spouted from the U.N. and corridors of power in major world
  capitols---Iran openly calls for the destruction of Israel\, and most shr
 ug their shoulders. Dr. Manf...
DTSTART;TZID=America/Toronto:20191130T200000
DTEND;TZID=America/Toronto:20191130T220000
END:VEVENT
END:VCALENDAR
