BEGIN:VCALENDAR
PRODID:-//eluceo/ical//2.0/EN
VERSION:2.0
CALSCALE:GREGORIAN
BEGIN:VEVENT
UID:24314ee7ffc47d2066376252435dad01
DTSTAMP:20260421T173120Z
SUMMARY:Collaborative Seliẖot Evening Program and Service
DESCRIPTION:UJA Federation of Greater Toronto\nJewish Toronto Calendar\nhtt
 ps://jewishtoronto.com/calendar/collaborative-seliot-evening-program-and-s
 ervice-1628715452\n\nThis is the night we gather to prepare\, hearts and s
 pirits for the season of return.  We hear the majesty of the musical modes
  once again and we call out the familiar words of Avinu Malkeinu. This is 
 the night of Seliẖot. Join us as we bring alive the preparations for thi
 s holy season\, partnering the voices of our leadership with an exceptiona
 l musical ensemble to make one great prayer.\n\nJoin us in person at Beth 
 Tzedec or via Zoom livestream for this special program. Pre-registration i
 s...
DTSTART;TZID=America/Toronto:20210828T223000
DTEND;TZID=America/Toronto:20210828T234500
END:VEVENT
END:VCALENDAR
