BEGIN:VCALENDAR
PRODID:-//eluceo/ical//2.0/EN
VERSION:2.0
CALSCALE:GREGORIAN
BEGIN:VEVENT
UID:6aac2b9996a5113244d71b8fbb25ed09
DTSTAMP:20260420T091907Z
SUMMARY:Coffee Talk with Ezer Mizion
DESCRIPTION:UJA Federation of Greater Toronto\nJewish Toronto Calendar\nhtt
 ps://jewishtoronto.com/calendar/coffee-talk-with-ezer-mizion-1465332894\n\
 nJoin us for coffee and treats and hear from Audrey Miller\, Founder and M
 anaging Director\, Elder Caring to learn about managing life in the Sandwi
 ch Generation.
DTSTART;TZID=America/Toronto:20160621T103000
DTEND;TZID=America/Toronto:20160621T123000
END:VEVENT
END:VCALENDAR
