BEGIN:VCALENDAR
PRODID:-//eluceo/ical//2.0/EN
VERSION:2.0
CALSCALE:GREGORIAN
BEGIN:VEVENT
UID:3d94763fe7d0c8fb2fc097764c368b86
DTSTAMP:20260423T162601Z
SUMMARY:FOR YOU WERE STRANGERS... : Closing Program of Holocaust Education 
 Week
DESCRIPTION:UJA Federation of Greater Toronto\nJewish Toronto Calendar\nhtt
 ps://jewishtoronto.com/calendar/closing-program-325315\n\nFOR YOU WERE STR
 ANGERS... : REFLECTIONS ON THE LEGACY OF THE HOLOCAUST TODAY\n\nIn a time 
 of surging antisemitism and intolerance\, have we learned the lessons of t
 he Shoah? To close Holocaust Education\, we explore tangible ways in which
  the memory of the Shoah motivates contemporary activism. Elizabeth Broms
 tein grew up visiting her survivor relatives in Kensington Market\, and o
 ften wondered about the people pictured in old family photographs. It wasn
 ’t until later that\, in the context of...
DTSTART;TZID=America/Toronto:20191110T140000
DTEND;TZID=America/Toronto:20191110T160000
END:VEVENT
END:VCALENDAR
