BEGIN:VCALENDAR
PRODID:-//eluceo/ical//2.0/EN
VERSION:2.0
CALSCALE:GREGORIAN
BEGIN:VEVENT
UID:3e5b82401d458b4af088c5a910351c96
DTSTAMP:20260419T165349Z
SUMMARY:CJPAC's Year in Review with The Herle Burly
DESCRIPTION:UJA Federation of Greater Toronto\nJewish Toronto Calendar\nhtt
 ps://jewishtoronto.com/calendar/cjpacs-year-in-review-with-the-herle-burly
 -1605035568\n\nJoin us on Zoom for a fun\, engaging and special year-end C
 JPAC event featuring The Herle Burly podcast! David Herle\, Jenni Byrne an
 d Scott Reid are not to be missed\, as they look back on Canadian politics
  in 2020 and beyond\, and where they think we’re headed next year. Can y
 ou say election time?!$%#@\n\nTO RSVP\, please visit cjpac.nationbuilder.c
 om/herle_burly_event\nFor sponsorship opportunities please contact Mark Wa
 ldman at mwaldman@cjpac.ca.\nFor event info please contact Rachel Iskov a.
 ..
DTSTART;TZID=America/Toronto:20201207T193000
DTEND;TZID=America/Toronto:20201207T213000
END:VEVENT
END:VCALENDAR
