BEGIN:VCALENDAR
PRODID:-//eluceo/ical//2.0/EN
VERSION:2.0
CALSCALE:GREGORIAN
BEGIN:VEVENT
UID:589d5020d54bcd1eb3a8cd483289dfe2
DTSTAMP:20260422T144338Z
SUMMARY:CJPAC's Ultimate Kiddush Club
DESCRIPTION:UJA Federation of Greater Toronto\nJewish Toronto Calendar\nhtt
 ps://jewishtoronto.com/calendar/cjpacs-ultimate-kiddush-club-1479481652\n\
 nJoin CJPAC for an exclusive scotch tasting. Call for more details.
DTSTART;TZID=America/Toronto:20161214T200000
DTEND;TZID=America/Toronto:20161214T230000
END:VEVENT
END:VCALENDAR
