BEGIN:VCALENDAR
PRODID:-//eluceo/ical//2.0/EN
VERSION:2.0
CALSCALE:GREGORIAN
BEGIN:VEVENT
UID:8e752e2648ec6513f170a2e4690d02ba
DTSTAMP:20260421T070334Z
SUMMARY:CJPAC’s Major Gifts Dinner
DESCRIPTION:UJA Federation of Greater Toronto\nJewish Toronto Calendar\nhtt
 ps://jewishtoronto.com/calendar/cjpacs-major-gifts-dinner-1456152673\n\nLo
 cation: To be determined\nContact: Rachel Iskov – Riskov@cjpac.ca – 4
 16 929 9552 ex 231
DTSTART;TZID=America/Toronto:20160922T180000
DTEND;TZID=America/Toronto:20160922T220000
END:VEVENT
END:VCALENDAR
