BEGIN:VCALENDAR
PRODID:-//eluceo/ical//2.0/EN
VERSION:2.0
CALSCALE:GREGORIAN
BEGIN:VEVENT
UID:e0f89ab9e954ba60843425ff07cb89cb
DTSTAMP:20260424T013451Z
SUMMARY:CJPAC UKC Event
DESCRIPTION:UJA Federation of Greater Toronto\nJewish Toronto Calendar\nhtt
 ps://jewishtoronto.com/calendar/cjpac_-ukc-event-1735920858\n\nPrivate Eve
 nt\nUltimate Kiddish Club Event -\nThursday\, October 9\, 2025
DTSTART;TZID=America/Toronto:20251009T173000
DTEND;TZID=America/Toronto:20251009T223000
END:VEVENT
END:VCALENDAR
