BEGIN:VCALENDAR
PRODID:-//eluceo/ical//2.0/EN
VERSION:2.0
CALSCALE:GREGORIAN
BEGIN:VEVENT
UID:c9cdd2dceef3b02f2b9c6aa9a6ea87df
DTSTAMP:20260423T214844Z
SUMMARY:CJPAC Women in Politics Mentorship Program - Launch Event
DESCRIPTION:UJA Federation of Greater Toronto\nJewish Toronto Calendar\nhtt
 ps://jewishtoronto.com/calendar/cjpac-women-in-politics-mentorship-program
 -launch-event-1472232578\n\nThe CJPAC Women in Politics Mentorship Program
  is designed to connect Jewish women (18+) interested in becoming more inv
 olved in the political process\, either personally or professionally\, wit
 h Jewish mentors who have senior experience in politics\, government and c
 ommunications. The program will begin in September and will conclude in Ma
 y 2017.
DTSTART;TZID=America/Toronto:20160921T190000
DTEND;TZID=America/Toronto:20160921T210000
END:VEVENT
END:VCALENDAR
