BEGIN:VCALENDAR
PRODID:-//eluceo/ical//2.0/EN
VERSION:2.0
CALSCALE:GREGORIAN
BEGIN:VEVENT
UID:7e94dcc6210c44bbf7440a7fd6c0ce34
DTSTAMP:20260425T201102Z
SUMMARY:CJPAC Political Summit
DESCRIPTION:UJA Federation of Greater Toronto\nJewish Toronto Calendar\nhtt
 ps://jewishtoronto.com/calendar/cjpac-political-summit-1734109487\n\nPolit
 ical event to train and motivate people to get involved in Canadian politi
 cs.
DTSTART;TZID=America/Toronto:20250302T140000
DTEND;TZID=America/Toronto:20250302T190000
END:VEVENT
END:VCALENDAR
