BEGIN:VCALENDAR
PRODID:-//eluceo/ical//2.0/EN
VERSION:2.0
CALSCALE:GREGORIAN
BEGIN:VEVENT
UID:8e2e998ca7c7b3fb02382fcf98728503
DTSTAMP:20260424T052347Z
SUMMARY:CJPAC Major Gifts Breakfast
DESCRIPTION:UJA Federation of Greater Toronto\nJewish Toronto Calendar\nhtt
 ps://jewishtoronto.com/calendar/cjpac-major-gifts-breakfast\n\nCJPAC Major
  Gifts Breakfast
DTSTART;TZID=America/Toronto:20140619T080000
DTEND;TZID=America/Toronto:20140619T110000
END:VEVENT
END:VCALENDAR
