BEGIN:VCALENDAR
PRODID:-//eluceo/ical//2.0/EN
VERSION:2.0
CALSCALE:GREGORIAN
BEGIN:VEVENT
UID:b365102bb007ea8b4831234914e9253f
DTSTAMP:20260425T170853Z
SUMMARY:CJPAC ACTION Party
DESCRIPTION:UJA Federation of Greater Toronto\nJewish Toronto Calendar\nhtt
 ps://jewishtoronto.com/calendar/cjpac-action-party-hold-1687371107\n\nYoun
 g professionals\, business leaders\, philanthropists\, political influence
 rs and elected officials (from all three levels of government and all majo
 r parties) meet to network\, talk politics (but without any speeches)\, an
 d celebrate multipartisanship. The ACTION Party stands as a testament to t
 he CJPAC and community commitment to foster strong relationships and build
  political engagement for Jewish and pro-Israel Canadians.\n\nTickets go o
 n sale April 16.\n\nCheck out www.CJPAC.ca/Events to l...
DTSTART;TZID=America/Toronto:20240606T190000
DTEND;TZID=America/Toronto:20240606T235900
END:VEVENT
END:VCALENDAR
