BEGIN:VCALENDAR
PRODID:-//eluceo/ical//2.0/EN
VERSION:2.0
CALSCALE:GREGORIAN
BEGIN:VEVENT
UID:b6ec6fbd15b2b260638b4cc59c35844e
DTSTAMP:20260422T171432Z
SUMMARY:City Shul Tot Shabbat
DESCRIPTION:UJA Federation of Greater Toronto\nJewish Toronto Calendar\nhtt
 ps://jewishtoronto.com/calendar/city-shul-tot-shabbat-1776719003\n\nWe loo
 k forward to seeing you at our next Tot Shabbat on Saturday\, May 23.\n\nW
 e play\, sing songs\, do a craft or activity\, and have kiddush together. 
 Please join us for an interactive experience for children up to age 4. Sna
 cks will be provided.\n\nRegistration is not required.\n\nFor location det
 ails\, please contact tellme@cityshul.com
DTSTART;TZID=America/Toronto:20260523T103000
DTEND;TZID=America/Toronto:20260523T113000
END:VEVENT
END:VCALENDAR
