BEGIN:VCALENDAR
PRODID:-//eluceo/ical//2.0/EN
VERSION:2.0
CALSCALE:GREGORIAN
BEGIN:VEVENT
UID:3587ad622d48dc239ae58692eaef7eeb
DTSTAMP:20260421T130431Z
SUMMARY:City Shul Tot Shabbat
DESCRIPTION:UJA Federation of Greater Toronto\nJewish Toronto Calendar\nhtt
 ps://jewishtoronto.com/calendar/city-shul-tot-shabbat-1772482577\n\nWe loo
 k forward to seeing you at our next Tot Shabbat on Saturday\, March 28.\n\
 nWe play\, sing songs\, do a craft or activity\, and have kiddush together
 . Please join us for an interactive experience for children up to age 4. S
 nacks will be provided.\n\nPlease reach out to connect@cityshul.com for l
 ocation details. \n\nRegistration is not required.
DTSTART;TZID=America/Toronto:20260328T103000
DTEND;TZID=America/Toronto:20260328T113000
END:VEVENT
END:VCALENDAR
