BEGIN:VCALENDAR
PRODID:-//eluceo/ical//2.0/EN
VERSION:2.0
CALSCALE:GREGORIAN
BEGIN:VEVENT
UID:b099dd7a78489779d08527645d093af5
DTSTAMP:20260420T011618Z
SUMMARY:City Shul Tot Shabbat
DESCRIPTION:UJA Federation of Greater Toronto\nJewish Toronto Calendar\nhtt
 ps://jewishtoronto.com/calendar/city-shul-tot-shabbat-1764172081\n\nWe loo
 k forward to seeing you at our next Tot Shabbat on and December 6.\n\nWe p
 lay\, sing songs\, do a craft or activity\, and have kiddush together. Ple
 ase join us for an interactive experience for children up to age 4. Snacks
  will be provided.\n\nWe are looking forward to seeing you!\n\nNo registra
 tion is required.
DTSTART;TZID=America/Toronto:20251206T103000
DTEND;TZID=America/Toronto:20251206T113000
END:VEVENT
END:VCALENDAR
