BEGIN:VCALENDAR
PRODID:-//eluceo/ical//2.0/EN
VERSION:2.0
CALSCALE:GREGORIAN
BEGIN:VEVENT
UID:4366068746ed909a8eb59df7929f7c58
DTSTAMP:20260421T234543Z
SUMMARY:City Shul Tot Shabbat
DESCRIPTION:UJA Federation of Greater Toronto\nJewish Toronto Calendar\nhtt
 ps://jewishtoronto.com/calendar/city-shul-tot-shabbat-1745874905\n\nWe loo
 k forward to seeing you at our next Tot Shabbat on May 10.\n\nWe play\, si
 ng songs\, do a craft or activity\, and have kiddush together. Please join
  us for an interactive experience for children up to age 4.\n\nLooking for
 ward to seeing you!\n\nNo registration is required.
DTSTART;TZID=America/Toronto:20250510T103000
DTEND;TZID=America/Toronto:20250510T113000
END:VEVENT
END:VCALENDAR
