BEGIN:VCALENDAR
PRODID:-//eluceo/ical//2.0/EN
VERSION:2.0
CALSCALE:GREGORIAN
BEGIN:VEVENT
UID:5ef6dcdf7e92129f3a23135b75952f0f
DTSTAMP:20260422T045803Z
SUMMARY:City Shul Tot Shabbat
DESCRIPTION:UJA Federation of Greater Toronto\nJewish Toronto Calendar\nhtt
 ps://jewishtoronto.com/calendar/city-shul-tot-shabbat-1726003606\n\nWe loo
 k forward to seeing you at our next Tot Shabbat on September 14.We play\, 
 sing songs\, do a craft or activity\, and have kiddush together. Please jo
 in us for an interactive experience for children up to age 4.Looking forwa
 rd to seeing you!No registration is required.
DTSTART;TZID=America/Toronto:20240914T103000
DTEND;TZID=America/Toronto:20240914T113000
END:VEVENT
END:VCALENDAR
