BEGIN:VCALENDAR
PRODID:-//eluceo/ical//2.0/EN
VERSION:2.0
CALSCALE:GREGORIAN
BEGIN:VEVENT
UID:45eb26bf272958b28d8c221e6c99f30d
DTSTAMP:20260424T115300Z
SUMMARY:City Shul Shavuot Picnic
DESCRIPTION:UJA Federation of Greater Toronto\nJewish Toronto Calendar\nhtt
 ps://jewishtoronto.com/calendar/city-shul-shavuot-picnic-1746551416\n\nPle
 ase join us for a City Shul Picnic on Sunday\, June 1. Bring your own picn
 ic lunch to eat (nut-free\, no meat). We will provide a Shavuot dairy trea
 t. Invite your friends. Kid-friendly activities will be provided.\n\nClick
  here to register: https://bit.ly/Shavuot-Picnic
DTSTART;TZID=America/Toronto:20250601T110000
DTEND;TZID=America/Toronto:20250601T140000
END:VEVENT
END:VCALENDAR
