BEGIN:VCALENDAR
PRODID:-//eluceo/ical//2.0/EN
VERSION:2.0
CALSCALE:GREGORIAN
BEGIN:VEVENT
UID:81f93fa03d27813d80078848a1c35aef
DTSTAMP:20260424T132415Z
SUMMARY:City Shul Rosh Hashanah Day 2 Services
DESCRIPTION:UJA Federation of Greater Toronto\nJewish Toronto Calendar\nhtt
 ps://jewishtoronto.com/calendar/city-shul-rosh-hashanah-day-2-services-175
 7589155\n\nCity Shul High Holiday Services\n\nOur services begin with Seli
 chot on Saturday\, September 13th\, followed by Rosh Hashanah\, Shofarpalo
 oza\, Shabbat Shuvah\, Kol Nidre/Yom Kippur\, Sukkot\, and conclude with S
 imchat Torah.\n\nLearn more and register for services here - https://bit.l
 y/City-Shul-High-Holy-Days-5786\n\nPlease note that there are a limited am
 ount of single ticket sales for this event - a waitlist will be created on
 ce the limit is reached
DTSTART;TZID=America/Toronto:20250924T100000
DTEND;TZID=America/Toronto:20250924T120000
END:VEVENT
END:VCALENDAR
