BEGIN:VCALENDAR
PRODID:-//eluceo/ical//2.0/EN
VERSION:2.0
CALSCALE:GREGORIAN
BEGIN:VEVENT
UID:0ddcdc628a97898a9731c0b872df6fcf
DTSTAMP:20260420T054709Z
SUMMARY:City Shul Pride Havdalah
DESCRIPTION:UJA Federation of Greater Toronto\nJewish Toronto Calendar\nhtt
 ps://jewishtoronto.com/calendar/city-shul-pride-havdalah-1747946919\n\nJoi
 n us on Saturday\, June 14th from 7:30 – 9 PM for a special Pride Havdal
 ah\, an inclusive community gathering to mark the end of Shabbat and celeb
 rate LGBTQ+ joy and resilience—light refreshments will be served\, and a
 ll donations will go to support a local LGBTQ+ aid organization.\n\nMiles 
 Nadal JCC (MNJCC) - 750 Spadina Avenue\, Room 318. NW corner of Spadina Av
 enue and Bloor Street West.\n\nClick here to register - www.cityshul.com/e
 vent/Pride-Havdalah-2025.html
DTSTART;TZID=America/Toronto:20250614T193000
DTEND;TZID=America/Toronto:20250614T210000
END:VEVENT
END:VCALENDAR
