BEGIN:VCALENDAR
PRODID:-//eluceo/ical//2.0/EN
VERSION:2.0
CALSCALE:GREGORIAN
BEGIN:VEVENT
UID:70db93074a861da5340d21a152ba172d
DTSTAMP:20260420T090237Z
SUMMARY:City Shul Kabbalat Shabbat in the Park
DESCRIPTION:UJA Federation of Greater Toronto\nJewish Toronto Calendar\nhtt
 ps://jewishtoronto.com/calendar/city-shul-kabbalat-shabbat-in-the-park-174
 7936504\n\nPlease join us for Kabbalat Shabbat\, at Bickford Park with Rab
 bi Gottlieb.\n\nRegistration is not required.\n\nAddress - 400 Grace Stree
 t\, near Grace Avenue\, just south of Bloor Street. We will be at the Nort
 h East corner of the park\, where there is a small hill. Please bring a bl
 anket to sit on\, and/or a folding chair. Rabbi Gottlieb will be leading t
 he services at the bottom of the hill.\n\nMap of Bickford Park - https://i
 mages.shulcloud.com/742/_preview/db216428f02089bce6a6eece06b1871803bb...
DTSTART;TZID=America/Toronto:20250606T180000
DTEND;TZID=America/Toronto:20250606T193000
END:VEVENT
END:VCALENDAR
