BEGIN:VCALENDAR
PRODID:-//eluceo/ical//2.0/EN
VERSION:2.0
CALSCALE:GREGORIAN
BEGIN:VEVENT
UID:852b9c605529eceda84881469d4d166d
DTSTAMP:20260420T142758Z
SUMMARY:City Shul Kabbalat Shabbat
DESCRIPTION:UJA Federation of Greater Toronto\nJewish Toronto Calendar\nhtt
 ps://jewishtoronto.com/calendar/city-shul-kabbalat-shabbat-1772644390\n\nP
 lease join us for Kabbalat Shabbat at City Shul. Winter/Spring dates are M
 arch 13\, April 10\, and May 1.\n\nRegistration is not required. The servi
 ce will not be live-streamed.\n\nThe format of the evening is as follows:\
 n\n6 - 6:30 PM - A Pre-Oneg Shabbat is a social gathering before Friday ni
 ght Jewish services\, a chance to mingle with wine\, seltzer\, and some li
 ght snacks\n\n630 - 7:30 PM - Kabbalat Shabbat Service
DTSTART;TZID=America/Toronto:20260313T180000
DTEND;TZID=America/Toronto:20260313T193000
END:VEVENT
END:VCALENDAR
