BEGIN:VCALENDAR
PRODID:-//eluceo/ical//2.0/EN
VERSION:2.0
CALSCALE:GREGORIAN
BEGIN:VEVENT
UID:af84b4e60cab3fd124139fb539c4e278
DTSTAMP:20260419T193843Z
SUMMARY:CISL Presents Bulls Bears Black Swans 2026 Economic  Forum
DESCRIPTION:UJA Federation of Greater Toronto\nJewish Toronto Calendar\nhtt
 ps://jewishtoronto.com/calendar/cisl-presents-bulls-bears-black-swans-2026
 -economic--forum-1770048095\n\nEconomic insights presented from 3 renowned
  economists\n\nEvent details\, including location\, will be emailed to rsv
 p'd guests day of the event
DTSTART;TZID=America/Toronto:20260223T193000
DTEND;TZID=America/Toronto:20260223T213000
END:VEVENT
END:VCALENDAR
