BEGIN:VCALENDAR
PRODID:-//eluceo/ical//2.0/EN
VERSION:2.0
CALSCALE:GREGORIAN
BEGIN:VEVENT
UID:6c7a14e045cad2dd7272b37f366b4f1e
DTSTAMP:20260424T145528Z
SUMMARY:Circus Berserkus
DESCRIPTION:UJA Federation of Greater Toronto\nJewish Toronto Calendar\nhtt
 ps://jewishtoronto.com/calendar/circus-berserkus\n\nCircus Berserkus\nPres
 ented by Lookup Theatre\nThursday March 19 | 8:00 pm\nFriday March 20 | 4:
 00 pm and 8:00 pm\nAl Green Theatre in the Miles Nadal JCC\nA circus show 
 about mental health with an anti stigma and recovery based message.\nLooku
 p Theatre’s Talk to Youth Lately (TTYL) Mental Health Social Circus Prog
 ram is a group of young people ages 16-30 who have experienced mental heal
 th issues or are close friends and family members.\nTickets: Single Adult 
 : $15 | Students: Free (With Va...
DTSTART;TZID=America/Toronto:20150319T200000
DTEND;TZID=America/Toronto:20150319T220000
END:VEVENT
END:VCALENDAR
