BEGIN:VCALENDAR
PRODID:-//eluceo/ical//2.0/EN
VERSION:2.0
CALSCALE:GREGORIAN
BEGIN:VEVENT
UID:66e0a07c4e5507fb843de10150b286e3
DTSTAMP:20260420T024635Z
SUMMARY:Cinema Spectacular: The Golden Age of Cinema Concert
DESCRIPTION:UJA Federation of Greater Toronto\nJewish Toronto Calendar\nhtt
 ps://jewishtoronto.com/calendar/cinemaspectacular-the-golden-age-ofcinemac
 oncert-1693513790\n\nJoin us for this night of classic songs from the like
 s of Bernstein and the Gershwins. Enjoy familiar songs that came out of th
 is incredible period from the '20s to the '60s\, featuring special guests
  including Cantor Moshe Fishel\, Cantor Sidney Ezer and accompanist Asher 
 Farber.\n\nThis concert will be presented for both in-person and online au
 diences. There is no charge but registration is required for all.
DTSTART;TZID=America/Toronto:20230920T193000
DTEND;TZID=America/Toronto:20230920T214500
END:VEVENT
END:VCALENDAR
