BEGIN:VCALENDAR
PRODID:-//eluceo/ical//2.0/EN
VERSION:2.0
CALSCALE:GREGORIAN
BEGIN:VEVENT
UID:3911c1b648aae720102103c91d80b792
DTSTAMP:20260426T010847Z
SUMMARY:CIJA's Grassroots Consultation - Young Professionals (Toronto Midto
 wn)
DESCRIPTION:UJA Federation of Greater Toronto\nJewish Toronto Calendar\nhtt
 ps://jewishtoronto.com/calendar/cijas-grassroots-consultation---young-prof
 essionals-toronto-midtown-1547651864\n\nEvery year\, we invite community m
 embers like you to participate in Grassroots Consultation sessions across 
 Canada.\n\nThis is your opportunity to ask questions\, tell us what’s on
  your mind\, and shape our advocacy efforts for the year ahead. In additio
 n to group conversations and an open mic session\, this year’s consultat
 ion will include an update on CIJA’s strategy to fight antisemitism\, a 
 subject community members have consistently reported to be their top prior
 ity.\n\nFrom combating a...
DTSTART;TZID=America/Toronto:20190130T190000
DTEND;TZID=America/Toronto:20190130T210000
END:VEVENT
END:VCALENDAR
