BEGIN:VCALENDAR
PRODID:-//eluceo/ical//2.0/EN
VERSION:2.0
CALSCALE:GREGORIAN
BEGIN:VEVENT
UID:6e3da2dada9b269b5bc8d54d749f639d
DTSTAMP:20260422T045657Z
SUMMARY:CIJA York Region Grassroots Consultation
DESCRIPTION:UJA Federation of Greater Toronto\nJewish Toronto Calendar\nhtt
 ps://jewishtoronto.com/calendar/cija-york-region-grassroots-consultation-1
 512754938\n\nCIJA Grassroots Consultation
DTSTART;TZID=America/Toronto:20171214T100000
DTEND;TZID=America/Toronto:20171214T233000
END:VEVENT
END:VCALENDAR
