BEGIN:VCALENDAR
PRODID:-//eluceo/ical//2.0/EN
VERSION:2.0
CALSCALE:GREGORIAN
BEGIN:VEVENT
UID:4eac7f587cb9c40541cf64beca72bd0a
DTSTAMP:20260420T101930Z
SUMMARY:CIJA-UJA Legal Conference - Combating Online: Legal Perspectives
DESCRIPTION:UJA Federation of Greater Toronto\nJewish Toronto Calendar\nhtt
 ps://jewishtoronto.com/calendar/cija-uja-legal-conference---combating-onli
 ne-legal-perspectives-1569423254\n\nCIJA-UJA Legal Conference - Combating 
 Online: Legal Perspectives
DTSTART;TZID=America/Toronto:20200211T080000
DTEND;TZID=America/Toronto:20200211T170000
END:VEVENT
END:VCALENDAR
