BEGIN:VCALENDAR
PRODID:-//eluceo/ical//2.0/EN
VERSION:2.0
CALSCALE:GREGORIAN
BEGIN:VEVENT
UID:5314ff1261a60f13e76d23b28b93f546
DTSTAMP:20260420T091707Z
SUMMARY:CIJA Grassroots Consultation - Downtown Toronto
DESCRIPTION:UJA Federation of Greater Toronto\nJewish Toronto Calendar\nhtt
 ps://jewishtoronto.com/calendar/cija-grassroots-consultation---downtown-to
 ronto-1512754832\n\nCIJA Grassroots Consultations
DTSTART;TZID=America/Toronto:20180122T193000
DTEND;TZID=America/Toronto:20180122T210000
END:VEVENT
END:VCALENDAR
