BEGIN:VCALENDAR
PRODID:-//eluceo/ical//2.0/EN
VERSION:2.0
CALSCALE:GREGORIAN
BEGIN:VEVENT
UID:a740e61e43e3f952e2afc6d33429dbf3
DTSTAMP:20260422T144537Z
SUMMARY:CIJA & CJPAC Queen's Park Wine & Cheese
DESCRIPTION:UJA Federation of Greater Toronto\nJewish Toronto Calendar\nhtt
 ps://jewishtoronto.com/calendar/cija--cjpac-queens-park-wine--cheese-15058
 28957\n\nWine & Cheese following lobby day at Queen's Park. By invitation 
 only.
DTSTART;TZID=America/Toronto:20180220T180000
DTEND;TZID=America/Toronto:20180220T210000
END:VEVENT
END:VCALENDAR
