BEGIN:VCALENDAR
PRODID:-//eluceo/ical//2.0/EN
VERSION:2.0
CALSCALE:GREGORIAN
BEGIN:VEVENT
UID:3e727a0f9fb7b14f5c8616807129c103
DTSTAMP:20260421T232118Z
SUMMARY:CHW Toronto Machar Chapter presents Machar Art Experiences
DESCRIPTION:UJA Federation of Greater Toronto\nJewish Toronto Calendar\nhtt
 ps://jewishtoronto.com/calendar/chw-toronto-machar-chapter-presents-machar
 -art-experiences-1699465776\n\nCHW Toronto Machar Chapter presents Machar 
 Art Experiences
DTSTART;TZID=America/Toronto:20240618T090000
DTEND;TZID=America/Toronto:20240618T210000
END:VEVENT
END:VCALENDAR
