BEGIN:VCALENDAR
PRODID:-//eluceo/ical//2.0/EN
VERSION:2.0
CALSCALE:GREGORIAN
BEGIN:VEVENT
UID:0bec1445c246c3321cbd4c61e63536d3
DTSTAMP:20260421T210134Z
SUMMARY:CHW TORONTO FASHION BLOOMS
DESCRIPTION:UJA Federation of Greater Toronto\nJewish Toronto Calendar\nhtt
 ps://jewishtoronto.com/calendar/chw-toronto-fashion-blooms-1706115837\n\nN
 ow in its fourth year\, FASHION BLOOMS has evolved into CHW's national sig
 nature fundraising event. Toronto guests enjoy great food\, music\, signat
 ure cocktails\, beauty\, fashion show\, trends\, and pop-up shops! The eve
 nt is multigenerational and represents our diverse community of young prof
 essionals\, seasoned supporters\, high net-worth donors\, and corporate pa
 rtners in one space. Join us for an immersive evening uniquely curated to 
 surprise and delight the senses.
DTSTART;TZID=America/Toronto:20240523T193000
DTEND;TZID=America/Toronto:20240523T220000
END:VEVENT
END:VCALENDAR
