BEGIN:VCALENDAR
PRODID:-//eluceo/ical//2.0/EN
VERSION:2.0
CALSCALE:GREGORIAN
BEGIN:VEVENT
UID:3ae6b01cabac7d90b25541bb47f12ca8
DTSTAMP:20260421T204426Z
SUMMARY:CHW Toronto Centre - Walks with Gila
DESCRIPTION:UJA Federation of Greater Toronto\nJewish Toronto Calendar\nhtt
 ps://jewishtoronto.com/calendar/chw-toronto-centre-walks-with-gila-1472151
 195\n\nCHW members and friends will walk in support of women\, healthcare 
 and children in Israel and Canada. So gather the girls and gear up for som
 e friendly fundraising competition! Your reward will be prizes\, a Kosher 
 BBQ\, and fun for the whole family! The day is sure to be a blast and ther
 e is no need to be super fit to join! We hope you will ask all your friend
 s and family to support you in this light athletic endeavour.
DTSTART;TZID=America/Toronto:20160918T110000
DTEND;TZID=America/Toronto:20160918T143000
END:VEVENT
END:VCALENDAR
