BEGIN:VCALENDAR
PRODID:-//eluceo/ical//2.0/EN
VERSION:2.0
CALSCALE:GREGORIAN
BEGIN:VEVENT
UID:0538fd77bb719c433b0479ff2898a9f2
DTSTAMP:20260420T085219Z
SUMMARY:CHW Toronto Atid Chapter presents their Literary Levee 2019
DESCRIPTION:UJA Federation of Greater Toronto\nJewish Toronto Calendar\nhtt
 ps://jewishtoronto.com/calendar/chw-toronto-atid-chapter-presents-their-li
 terary-levee-2019-1554771186\n\nCHW Toronto Atid Chapter presents their\nL
 iterary Levee 2019\nFeaturing author : Merav Richter\n\nWednesday\, May 15
 \, 2019\n7:15 p.m.\nEarl Bales Community Centre\n4169 Bathurst Street\nFre
 e Parking. TTC and Wheelchair accessible.\n\nEvening includes: Reading\, Q
  & A/Discussion\, Gourmet Dessert Reception\, Silent Auction\, Door Prizes
 \, Book Swap (free!)\n\nTopic: Follow your bliss! Merav Richter will explo
 re what women in our society face\, and how to build a bridge between our 
 reality and our bli...
DTSTART;TZID=America/Toronto:20190515T191500
DTEND;TZID=America/Toronto:20190515T213000
END:VEVENT
END:VCALENDAR
