BEGIN:VCALENDAR
PRODID:-//eluceo/ical//2.0/EN
VERSION:2.0
CALSCALE:GREGORIAN
BEGIN:VEVENT
UID:f943b28d033f2234b197f608b3ef429a
DTSTAMP:20260422T130332Z
SUMMARY:CHW Marla Dan Tribute Dinner
DESCRIPTION:UJA Federation of Greater Toronto\nJewish Toronto Calendar\nhtt
 ps://jewishtoronto.com/calendar/chw-marla-dan-tribute-dinner\n\nHonouring 
 National CHW President Marla Dan.\n\nLocation TBD
DTSTART;TZID=America/Toronto:20141115T183000
DTEND;TZID=America/Toronto:20141115T203000
END:VEVENT
END:VCALENDAR
