BEGIN:VCALENDAR
PRODID:-//eluceo/ical//2.0/EN
VERSION:2.0
CALSCALE:GREGORIAN
BEGIN:VEVENT
UID:1d523c919e6550bc9f1b655a663adbca
DTSTAMP:20260423T094736Z
SUMMARY:CHW Atid Chapter Literary Levee
DESCRIPTION:UJA Federation of Greater Toronto\nJewish Toronto Calendar\nhtt
 ps://jewishtoronto.com/calendar/chw-atid-chapter-literary-levee\n\nA cozy 
 evening of food\, mingling and literary entertainment. Featuring Anthony D
 e Sa\, author of 'Kicking the Sky\,' a novel about simpler times in Toront
 o the Good until a shocking murder changed immigrant neighbourhoods and th
 e city\, forever. Author reading\, Q&A\, light dinner (kosher available)\,
  sweet table\, silent auction\, book swap\, door prizes.\n\nFees: $ 36.00
  - Included dinner $ 100.00 - Patron $ 150.00 - Benefactor
DTSTART;TZID=America/Toronto:20140508T180000
DTEND;TZID=America/Toronto:20140508T210000
END:VEVENT
END:VCALENDAR
