BEGIN:VCALENDAR
PRODID:-//eluceo/ical//2.0/EN
VERSION:2.0
CALSCALE:GREGORIAN
BEGIN:VEVENT
UID:90dd741ce11473d9f53dd03982ef3e90
DTSTAMP:20260421T212448Z
SUMMARY:Chinese Shabbat Dinner\, with guest speaker Rabbi Michael Skobac
DESCRIPTION:UJA Federation of Greater Toronto\nJewish Toronto Calendar\nhtt
 ps://jewishtoronto.com/calendar/chinese-shabbat-dinner-with-guest-speaker-
 rabbi-michael-skobac-1638911153\n\nJoin the Aish Thornhill Community Shul 
 for a special Shabbat dinner on Friday\, December 24\, featuring Chinese c
 uisine\, and followed by an engaging lecture by Rabbi Michael Skobac of Je
 ws for Judaism Canada.\n\nFor details\, and to register\, visit thornhills
 hul.com/december24
DTSTART;TZID=America/Toronto:20211224T173000
DTEND;TZID=America/Toronto:20211224T210000
END:VEVENT
END:VCALENDAR
