BEGIN:VCALENDAR
PRODID:-//eluceo/ical//2.0/EN
VERSION:2.0
CALSCALE:GREGORIAN
BEGIN:VEVENT
UID:8866761cc07f645603ef1487712d3ee5
DTSTAMP:20260424T172926Z
SUMMARY:Children's concert - Festival "Ot Azoj! - 2018"
DESCRIPTION:UJA Federation of Greater Toronto\nJewish Toronto Calendar\nhtt
 ps://jewishtoronto.com/calendar/childrens-concert---festival-ot-azoj---201
 8-1518308035\n\nEt Cetera and UJA Federation’s Committee for Yiddish pre
 sent the 5th International Festival of Jewish Culture "Ot Azoj!"\n\nMarch 
 4\, 5 pm \nChildren's concert \nAddress: Studio N\, 312 Dolomite Dr\, Toro
 nto\n\n Tickets: $15 at the entrance
DTSTART;TZID=America/Toronto:20180304T170000
DTEND;TZID=America/Toronto:20180304T190000
END:VEVENT
END:VCALENDAR
