BEGIN:VCALENDAR
PRODID:-//eluceo/ical//2.0/EN
VERSION:2.0
CALSCALE:GREGORIAN
BEGIN:VEVENT
UID:4e8ecc020593b13c91b99b9ad6bf298c
DTSTAMP:20260420T075708Z
SUMMARY:Children's Chocolate Seder
DESCRIPTION:UJA Federation of Greater Toronto\nJewish Toronto Calendar\nhtt
 ps://jewishtoronto.com/calendar/childrens-chocolate-seder\n\nAn afternoon 
 of retelling the Passover story with a chocolatey twist! Open to all ages.
  $10/famiily for members\; $20/family for nonpmembers. RSVP by April 8.
DTSTART;TZID=America/Toronto:20140413T133000
DTEND;TZID=America/Toronto:20140413T153000
END:VEVENT
END:VCALENDAR
